BEGIN:VCALENDAR
VERSION:2.0
PRODID:-//Galerie Go Art - ECPv6.2.8.1//NONSGML v1.0//EN
CALSCALE:GREGORIAN
METHOD:PUBLISH
X-WR-CALNAME:Galerie Go Art
X-ORIGINAL-URL:https://www.galeriegoart.ca
X-WR-CALDESC:Évènements pour Galerie Go Art
REFRESH-INTERVAL;VALUE=DURATION:PT1H
X-Robots-Tag:noindex
X-PUBLISHED-TTL:PT1H
BEGIN:VTIMEZONE
TZID:America/New_York
BEGIN:DAYLIGHT
TZOFFSETFROM:-0500
TZOFFSETTO:-0400
TZNAME:EDT
DTSTART:20260308T070000
END:DAYLIGHT
BEGIN:STANDARD
TZOFFSETFROM:-0400
TZOFFSETTO:-0500
TZNAME:EST
DTSTART:20261101T060000
END:STANDARD
END:VTIMEZONE
BEGIN:VEVENT
DTSTART;TZID=America/New_York:20260211T100000
DTEND;TZID=America/New_York:20261018T180000
DTSTAMP:20260425T174600
CREATED:20260311T221031Z
LAST-MODIFIED:20260314T191852Z
UID:7235-1770804000-1792346400@www.galeriegoart.ca
SUMMARY:Qu'est-ce qu'on mange?
DESCRIPTION:Les amateurs d’histoire\, les gourmands et les gourmets\, les collectionneurs d’objets promotionnels\, vont apprécier l’exposition «Au menu. Montréal\, une histoire de restaurants». \nSans prétention\, avec des documents d’archives pour l’essentiel\, le narratif de l’exposition est un présentoir d’éléments promotionnels dont font usage les restaurants tels que des affiches\, des menus\, des cartons d’allumettes\, des tasses. \nC’est un plaisir de découvrir l’évolution de la restauration montréalaise\, la diversité des établissements\, la richesse culinaire. L’exposition rend compte d’un univers foisonnant qui participe à la construction de l’identité québécoise et nourrit l’âme montréalaise. \nTête de bison\, expo «Au menu. Montréal\, une histoire de restaurants». Musée McCord 2026 \nMontage photographique\, expo «Au menu. Montréal\, une histoire de restaurants». Musée McCord\, 2026 \nCartons d’allumettes\, expo «Au Menu. Montréal\, une histoire de restaurants»\, Musée McCord\, 2026
URL:https://www.galeriegoart.ca/programmation/montreal-une-histoire-de-restaurants/
LOCATION:Musée McCord Stewart\, 690\, rue Sherbrooke O.\, Montréal\, Québec
CATEGORIES:Exposition
ATTACH;FMTTYPE=image/jpeg:https://www.galeriegoart.ca/wp-content/uploads/2026/03/IMG_5087.jpeg
END:VEVENT
BEGIN:VEVENT
DTSTART;TZID=America/New_York:20260301T100000
DTEND;TZID=America/New_York:20260729T180000
DTSTAMP:20260425T174600
CREATED:20260314T185210Z
LAST-MODIFIED:20260314T190624Z
UID:7247-1772359200-1785348000@www.galeriegoart.ca
SUMMARY:De pied en cap
DESCRIPTION:Vous en reconnaîtrez plusieurs parmi la galerie des personnalités que nous présente l’exposition Richard Avedon\, immortel: 1951-2004\, au Musée des beaux-arts de Montréal. \nIls et elles ont fait\, et font encore\, la couverture des magazines et des journaux car Richard Avedon a photographié des célébrités\, écrivains.es\, réalisateurs\, photographes\, artistes en arts visuels\, ainsi que des personnalités du milieu politique états-uniens. \nLa mémoire collective ne peut pas flancher avec un tel catalogue\, toutes des personnes qui ont marqué l’histoire du milieu du siècle dernier. \nTori Morrison\, photo tirée de l’expo «Richard Avedon\, immortel. 1951-2004». MBAM 2026 \nMarcel Duchamp\, photo tirée de l’expo «Richard Avedon\, immortel. 1951-2004». MBAM\, 2026 \nPour faire contrepoids à cet aéropage de célébrités\, Richard Avedon a photographié son père au cours de trois séances\, entre 1969 et 1973. Un corpus\, présenté dans une salle à part\, regroupe neuf (9) photographies de grand format de Jacob Israël Avedon. Dans un face-à-face intime avec le public\, ces photographies nous révèlent toute la fragilité de cet homme et l’on comprend que d’une séance à l’autre\, la santé de Jacob vacille. On l’accompagne jusqu’à ses derniers jours. \nCe corpus\, présenté dans une salle à part\, reprend l’expo qui a été présentée en 1974 à New-York\, au MOMA. On dit qu’à l’époque\, la présentation de ces photos à caractère intime a constitué une première et choqué le public. \nJacob Israël Avedon\, photo tirée de l’expo «Richard Avedon\, immortel. 1951-2004». MBAM\, 2026
URL:https://www.galeriegoart.ca/programmation/de-pied-en-cap/
LOCATION:Musée des Beaux-Arts de Montréal\, 1380\, rue Sherbrooke O\, Montréal\, Québec
CATEGORIES:Exposition
ATTACH;FMTTYPE=image/jpeg:https://www.galeriegoart.ca/wp-content/uploads/2026/03/L.-Nevelson-1.jpeg
END:VEVENT
BEGIN:VEVENT
DTSTART;TZID=America/New_York:20260314T100000
DTEND;TZID=America/New_York:20260519T170000
DTSTAMP:20260425T174600
CREATED:20250216T221049Z
LAST-MODIFIED:20260314T185850Z
UID:6250-1773482400-1779210000@www.galeriegoart.ca
SUMMARY:Ouvert
DESCRIPTION:Empruntez la «route des arts» sur le boulevard Saint-Laurent\, à Montréal\, pour un circuit qui vous permet de voir des dizaines de galeries à quelques enjambées les unes des autres ! \nPlusieurs circuits artistiques sont voués à la promotion des arts\, comme Art souterrain par exemple\, d’autres sont créés de toutes pièces au gré de nos balades et des lieux que nous fréquentons. C’est le cas des centres d’exposition et des galeries d’art qui se regroupent dans un même bâtiment\, comme le Belgo sur la rue Sainte-Catherine\, ou sur une même rue\, comme ces  galeries qui ont ouvert leurs portes depuis peu sur le boulevard Saint-Laurent et invitent les visiteurs et les amateurs d’art à emprunter cette route\, sur la Main à Montréal. \nLe circuit artistique de la Main vous propose de visiter des galeries aux missions variées: des galeries commerciales\, des espaces d’exposition loués par des artistes\, des galeries d’artistes en art thérapie\, des galeries d’objets contemporains. \nLe circuit débute par La Centrale/Powerhouse\, sise au 4296 boulevard Saint-Laurent. On poursuit les visites en traversant les quartiers Plateau Mont-Royal\, Mile-End\, Mile-Ex et la balade s’achève dans le quartier italien\, à la galerie C.O.A\, 6405 boulevard Saint-Laurent. \nLa Centrale/Powerhouse: 4296 boulevard Saint-Laurent. Fondé en 1973\, le centre d’artistes a longtemps été reconnu comme la seule institution artistique vouée à la promotion de l’art féministe à Montréal. Depuis 2007\, sa mission intègre aussi l’art qui exprime le post-colonianisme et le transféminisme. La galerie fait place aux médias traditionnels mais privilégie la performance et l’installation. \nGalerie Eli Kerr: 4647 boul Saint-Laurent. Depuis 2014. Défend un programme intergénérationnel d’artistes à travers des pratiques artistiques traditionnelles telles que peinture\, dessin\, photographie\, sculpture. \nGalerie Nicolas Robert: 4653 boul Saint-Laurent. Depuis 2011\, bureaux à Montréal et Toronto. \nDétail: David Elliott\, 2024 \nPatrick Mikhail: 4815 boul Saint-Laurent. Depuis 2006. Représente des artistes de toutes disciplines\, y compris la vidéo et les nouveaux médias. \nDétail: Série Peintures mexicaines\, Trevor Bourke\, 2023 \nGalerie Noël Guyomarc’h : 4836 boul Saint-Laurent. Depuis 1996\, la galerie propose un oeil nouveau sur la joaillerie à travers la mise en exposition de bijoux et d’objets d’art contemporains d’artistes québécois et internationaux. Le fondateur et propriétaire\, Noël Guyomarc’h\, est lauréat du Prix Charles-Biddle en reconnaissance pour sa contribution exceptionnelle au développement culturel du Québec\, depuis son arrivée au pays en 1988. \nEspaces locatifs pour artistes Espace-galerie : 4844 boul Saint-Laurent / Galerie du Viaduc: 5806 boul Saint-Laurent/ Erga: 6394 boul Saint-Laurent. \nSimon Blais : 5420 boul. Saint-Laurent. Depuis 1989\, la galerie est une institution incontournable dans le milieu de l’art. Représente un grand nombre d’artistes québécois renommés\, dont Françoise Sullivan\, Rita Letendre\, Marcelle Ferron\, Louise Robert\, Michel Goulet\, Denis Juneau et bien d’autres. \nGalerie C.O.A : 6405 boul. Saint-Laurent. Depuis 2014\, la galerie est vouée à la diffusion de l’art contemporain. Expositions régulières sur place et expositions en ligne. Représente des artistes québécois et internationaux. \nLa route des arts sur le Boulevard. Visitez les galeries\, découvrez un large éventail de pratiques artistiques et des artistes de toutes provenances. Notez que la plupart sont ouvertes du mercredi au dimanche et l’entrée est gratuite. \n 
URL:https://www.galeriegoart.ca/programmation/lart-sur-le-boulevard/
LOCATION:Boulevard saint-Laurent\, Montréal\, Québec.
CATEGORIES:Circuit découverte
ATTACH;FMTTYPE=image/jpeg:https://www.galeriegoart.ca/wp-content/uploads/2024/12/IMG_3657.jpg
END:VEVENT
END:VCALENDAR